BEGIN:VCALENDAR
VERSION:2.0
PRODID:-//MovePeople//MoveCMS//DE
BEGIN:VEVENT
UID:1982
DTSTAMP:20240625T000000Z
DTSTART:20240625T200000
DTEND:20240625T224500
LOCATION:X-TRA
DESCRIPTION:
SUMMARY:Bad Religion (US)
PRIORITY:3
END:VEVENT
END:VCALENDAR