BEGIN:VCALENDAR
VERSION:2.0
PRODID:-//MovePeople//MoveCMS//DE
BEGIN:VEVENT
UID:2400
DTSTAMP:20261113T000000Z
DTSTART:20261113T193000
LOCATION:X-TRA
DESCRIPTION:
SUMMARY:Swiss & Die Andern (DE)
PRIORITY:3
END:VEVENT
END:VCALENDAR