BEGIN:VCALENDAR
VERSION:2.0
PRODID:-//MovePeople//MoveCMS//DE
BEGIN:VEVENT
UID:2344
DTSTAMP:20260501T000000Z
DTSTART:20260501T210000
DTEND:20260501T033000
DESCRIPTION:Planet Pink Edition
SUMMARY:Rollschuh Disco - Planet Pink Edition
PRIORITY:3
END:VEVENT
END:VCALENDAR