BEGIN:VCALENDAR
VERSION:2.0
PRODID:-//MovePeople//MoveCMS//DE
BEGIN:VEVENT
UID:2417
DTSTAMP:20260522T000000Z
DTSTART:20260522T220000
DTEND:20260522T040000
LOCATION:X-TRA
DESCRIPTION:Kassettenweise Partyhits: Macarena, Coco Jamboo, Bailando
SUMMARY:Die ultimative 90er Party! *** 8 YEARS ***
PRIORITY:3
END:VEVENT
END:VCALENDAR