BEGIN:VCALENDAR
VERSION:2.0
PRODID:-//MovePeople//MoveCMS//DE
BEGIN:VEVENT
UID:2433
DTSTAMP:20260509T000000Z
DTSTART:20260509T220000
DTEND:20260509T040000
LOCATION:X-TRA
DESCRIPTION:
SUMMARY:Lollipop Party mit Almklausi (Live) plus Party auf 2 Floors & Karaoke Lounge
PRIORITY:3
END:VEVENT
END:VCALENDAR